BEGIN:VCALENDAR
VERSION:2.0
PRODID:-//Weaver Mountains Health Initiative - ECPv6.15.20//NONSGML v1.0//EN
CALSCALE:GREGORIAN
METHOD:PUBLISH
X-ORIGINAL-URL:https://weavermountainshealthinitiative.org
X-WR-CALDESC:Events for Weaver Mountains Health Initiative
REFRESH-INTERVAL;VALUE=DURATION:PT1H
X-Robots-Tag:noindex
X-PUBLISHED-TTL:PT1H
BEGIN:VTIMEZONE
TZID:UTC
BEGIN:STANDARD
TZOFFSETFROM:+0000
TZOFFSETTO:+0000
TZNAME:UTC
DTSTART:20220101T000000
END:STANDARD
END:VTIMEZONE
BEGIN:VEVENT
DTSTART;TZID=UTC:20260406T113000
DTEND;TZID=UTC:20260406T113000
DTSTAMP:20260422T170729
CREATED:20260329T160327Z
LAST-MODIFIED:20260329T163714Z
UID:1111-1775475000-1775475000@weavermountainshealthinitiative.org
SUMMARY:Fun Vip Bus Trip to JARS Dispensary
DESCRIPTION:
URL:https://weavermountainshealthinitiative.org/event/fun-vip-bus-trip-to-jars-dispensary/
CATEGORIES:Health
ATTACH;FMTTYPE=image/jpeg:https://weavermountainshealthinitiative.org/wp-content/uploads/2026/03/LIC-BusTrip-Yarnell040626_Featured.jpg
END:VEVENT
BEGIN:VEVENT
DTSTART;TZID=UTC:20250722T130000
DTEND;TZID=UTC:20250722T130000
DTSTAMP:20260422T170729
CREATED:20250712T134616Z
LAST-MODIFIED:20250728T185612Z
UID:976-1753189200-1753189200@weavermountainshealthinitiative.org
SUMMARY:Telehealth and You
DESCRIPTION:
URL:https://weavermountainshealthinitiative.org/event/telehealth-and-you/
LOCATION:Yarnell Regional Community Center\, 22302 S State Route 89\, Yarnell\, AZ\, 85362\, United States
CATEGORIES:Health,Past Events
ATTACH;FMTTYPE=image/webp:https://weavermountainshealthinitiative.org/wp-content/uploads/2025/07/Telehealth-7.22.25-Featured-Img.webp
END:VEVENT
BEGIN:VEVENT
DTSTART;TZID=UTC:20240921T100000
DTEND;TZID=UTC:20240921T140000
DTSTAMP:20260422T170729
CREATED:20220728T202024Z
LAST-MODIFIED:20241007T154112Z
UID:110-1726912800-1726927200@weavermountainshealthinitiative.org
SUMMARY:Health & Wellness Expo 2024
DESCRIPTION:THANK YOU TO ALL WHO ATTENDED THE EXPO – AND TO OUR SPONSORS!\n\nSeptember 21\, 2024\nThis annual event is a key way to promote our mission:  fostering connections for healthy living in the Weaver Mountains. The annual Health & Wellness EXPO\, hosted by the Weaver Mountains Health Initiative\, will feature several new programs this year.  First\, the WickCare Clinic\, the new mobile unit of Wickenburg Community Hospital\, will be on site during the EXPO at Model Creek Elementary School on Sep. 21. \nLook forward to some unique additions this year:  skin cancer screenings will take place\, courtesy of AZ Complete Health and Well Care Assured Imaging. The new Emergency Zones will be outlined and explained by representatives from the Emergency Management Division of Yavapai County\, and Manzanita Outreach will be bringing 150 containers of perishable food items and 150 bags of fresh produce… And of course\, the new WickCare Clinic\, the mobile unit from Wickenburg Community Hospital will be front and center!  This is just a start!   Other exhibitors will be highlighted in next month’s article.  Space is still available.  If you are interested in having a table\, please contact Krissy Wiles. \nNew! Flu Vaccine Clinic! (click for details)\nInterested in being a Sponsor? Click here. \n\nArt Contest to Showcase Healthy Living\nWe are offering cash prizes for youth\, courtesy of the Wickenburg Art Club.   Adult winners will receive distinctive “art” ribbons\, and a grand prize of a two night get away.   Winning artists will also have the option of having their art being displayed at the Yarnell Public Library from Sep. 24 – Oct. 31. \n\n\nContact Us\nPlease contact us directly with any questions or comments you may have\, and if you are interested in volunteering or becoming a Sponsor of the Health & Wellness Expo. \nKrissy Wiles\nOutreach Coordinator krissywileswmhi@gmail.com \n\n  \n  \n  \n  \n 
URL:https://weavermountainshealthinitiative.org/event/fall-health-fair-2024/
LOCATION:Model Creek School\, 18912 Hays Ranch Road\, Peeples Valley\, AZ\, 86332\, United States
CATEGORIES:Health
ATTACH;FMTTYPE=image/jpeg:https://weavermountainshealthinitiative.org/wp-content/uploads/2022/07/Expo24-Featured.jpg
END:VEVENT
BEGIN:VEVENT
DTSTART;TZID=UTC:20230930T100000
DTEND;TZID=UTC:20230930T140000
DTSTAMP:20260422T170729
CREATED:20230713T154312Z
LAST-MODIFIED:20231002T162958Z
UID:440-1696068000-1696082400@weavermountainshealthinitiative.org
SUMMARY:Health & Wellness Expo 2023
DESCRIPTION:Thank you for participating once again in our FREE Health & Wellness Expo on SEPT. 30\, 2023.\nThis annual event sponsored by the Weaver Mountains Health Initiative is a key way to promote our mission:  fostering connections for healthy living in the Weaver Mountains.  We invite you to visit over 30 booths that will offer services\, resources\, cool giveaways and informative\, friendly professionals who can help promote health and well being.\n\nPHOTOS FROM THE 2023 HEALTH EXPO!\n\nThank you to our exhibitors! \n\nWickenburg Community Hospital\nVeterans Coalition of Central Arizona\nU of A Center for Rural Health and  its Public Health\, program\,  AHEAD AZ and Move Up\nArizona Complete Health\nSpectrum Healthcare Group\nMedicare Sisters\nYavapai County Community Health Services\nMATFORCE\nTraffic Graphic Squad\nWeaver Mountains Art Guild\nAZ Fish and Game\nYarnell Shambala Meditation\nYarnell Water Improvement Association\nWeaver Mountains Wildcat 4-H Club\nYarnell Food Bank\nBe Connected  (Connecting Arizona service members\, veterans\, families & helpers to information\, support and resources)\nGood Samaritan Hospice\nFire Departments\nYarnell Community Presbyterian Church\nKids’ Korner Playground.\n\nAnd thank you for these services at the Health & Wellness EXPO! \n\n Blood Pressure. Depending on the readings\, we may be able to provide cholesterol testing\n Blood Sugar. Depending on the readings\, we may be able to provide A1c testing\nHeight\, Weight\, & BMI\nHIV testing\nCOVID-19 vaccinations\nFlu Vaccinations (both normal and high dose for 65+)\nNarcan\nHealth Education\n\nThese services  were offered by the University of Arizona’s College of Public Health.  Many thanks to the relationships facilitated by Platinum Sponsor U of A Center for Rural Health\, and AHEAD AZ.  \n  \n \n \n\n  \n\nEvent Sponsors\nPlatinum Sponsors\n \n\n \n\nSilver Sponsors\n \n\nCopper Sponsors
URL:https://weavermountainshealthinitiative.org/event/health-wellness-expo-2023/
LOCATION:Model Creek School\, 18912 Hays Ranch Road\, Peeples Valley\, AZ\, 86332\, United States
CATEGORIES:Health
ATTACH;FMTTYPE=image/jpeg:https://weavermountainshealthinitiative.org/wp-content/uploads/2023/07/Expo23_Featured.jpg
END:VEVENT
END:VCALENDAR